BEGIN:VCALENDAR
VERSION:2.0
PRODID:-//ChamberMaster//Event Calendar 2.0//EN
METHOD:PUBLISH
X-PUBLISHED-TTL:P3D
REFRESH-INTERVAL:P3D
CALSCALE:GREGORIAN
BEGIN:VEVENT
DTSTART:20260505T210000Z
DTEND:20260505T230000Z
X-MICROSOFT-CDO-ALLDAYEVENT:FALSE
SUMMARY:Young Professionals Volunteer Night
DESCRIPTION:Join the Loudoun Young Professionals Committee for an evening of service and connection as we partner with the Loudoun Education Foundation to support local students and families.\n\nVolunteers will help pack meal bags at the Fueled Warehouse in Leesburg\, supporting programs that provide essential food and resources to students in need throughout Loudoun County. This is a great opportunity to give back to the community while getting to know other young professionals who are passionate about making a difference.
X-ALT-DESC;FMTTYPE=text/html:<p data-end="451" data-start="264">Join the <strong data-end="314" data-start="273">Loudoun Young Professionals Committee</strong> for an evening of service and connection as we partner with the <strong data-end="411" data-start="379">Loudoun Education Foundation</strong> to support local students and families.</p>\n\n<p data-end="822" data-start="453">Volunteers will help pack meal bags at the <strong data-end="560" data-start="528">Fueled Warehouse in Leesburg</strong>\, supporting programs that provide essential food and resources to students in need throughout Loudoun County. This is a great opportunity to give back to the community while getting to know other young professionals who are passionate about making a difference.</p>\n
LOCATION:448 S. King Street SE Leesburg\, VA 20175
UID:e.1206.13546
SEQUENCE:3
DTSTAMP:20260420T012646Z
URL:https://dev.loudounchamber.org/events/details/young-professionals-volunteer-night-13546
END:VEVENT

END:VCALENDAR
