BEGIN:VCALENDAR
VERSION:2.0
PRODID:-//ChamberMaster//Event Calendar 2.0//EN
METHOD:PUBLISH
X-PUBLISHED-TTL:P3D
REFRESH-INTERVAL:P3D
CALSCALE:GREGORIAN
BEGIN:VEVENT
DTSTART:20211013T120000Z
DTEND:20211013T140000Z
X-MICROSOFT-CDO-ALLDAYEVENT:FALSE
SUMMARY:PolicyMaker Series: Virginia Attorney General Debate
DESCRIPTION:The race for the office of Attorney General in 2021 began in earnest in the primaries\, as Attorney General Mark Herring faced stiff competition from his own party from Delegate Jay Jones.  After securing his place on the ticket with 55% of the vote\, Herring will now be competing on November 2nd against Republican nominee\, Delegate Jason Miyares.  Both candidates are seeking to lead the Office of the Attorney General\, also known as the "Commonwealth's law firm" and serve as our citizen's and our government's chief legal counsel.   \n\n\n\nJoin us on October 13th for a live and in person debate for this critical state-wide election in Virginia.  A panel of business leaders will be seeking answers to important questions and influential issues that impact our business community.  \n\n\n\nCandidates:\n\nIncumbent   Attorney General Mark Herring (D)\n\nChallenger   Delegate Jason Miyares (R ) \n\n\n\nNOTE: The Loudoun Chamber Board of Directors has adopted a COVID-19 vaccine requirement in order to attend any in-person Chamber meetings or events. To read the full policy\, click here.
X-ALT-DESC;FMTTYPE=text/html:<div><br />\n<span style="font-size:12px\;"><span style="font-family:tahoma\;">The race for the office of Attorney General in 2021 began in earnest in the primaries\, as Attorney General Mark Herring faced stiff competition from his own party from Delegate Jay Jones.&nbsp\; After securing his place on the ticket with 55% of the vote\, Herring will now be competing on November 2nd against Republican nominee\, Delegate Jason Miyares.&nbsp\; Both candidates are seeking to lead the Office of the Attorney General\, also known as the &ldquo\;Commonwealth&rsquo\;s law firm&rdquo\; and serve as our citizen&rsquo\;s and our government&rsquo\;s chief legal counsel.&nbsp\; &nbsp\;<br />\n<br />\nJoin us on October 13th for a live and in person debate for this critical state-wide election in Virginia.&nbsp\; A panel of business leaders will be seeking answers to important questions and influential issues that impact our business community.&nbsp\;&nbsp\;<br />\n<br />\n<strong>Candidates:</strong><br />\nIncumbent &ndash\; Attorney General Mark Herring (D)<br />\nChallenger &ndash\; Delegate Jason Miyares (R )&nbsp\;</span></span></div>\n\n<div><br />\n<span style="font-size:12px\;"><span style="font-family:tahoma\;"><span style="box-sizing: border-box\; font-weight: bolder\; color: rgb(68\, 68\, 68)\;">NOTE:</span><span style="color: rgb(68\, 68\, 68)\;">&nbsp\;The Loudoun Chamber Board of Directors has adopted a COVID-19 vaccine requirement in order to attend any in-person Chamber meetings or events. To read the full policy\,&nbsp\;</span><a href="http://loudounchamber.staging.wpengine.com/wp-content/uploads/2021/08/Mandatory-Vaccine-Rules-for-Loudoun-Chamber-Event-Committee-MeetingParticipation.pdf" style="box-sizing: border-box\; color: rgb(34\, 72\, 132)\; text-decoration-line: none\; overflow-wrap: break-word\; font-family: tahoma\; font-size: 12px\;"><span style="box-sizing: border-box\; font-weight: bolder\;">click here.</span></a></span></span></div>\n
LOCATION:The National Conference Center 18980 Upper Belmont Place Leesburg\, VA 20176
UID:e.1206.13089
SEQUENCE:3
DTSTAMP:20260423T155447Z
URL:https://dev.loudounchamber.org/events/details/policymaker-series-virginia-attorney-general-debate-13089
END:VEVENT

END:VCALENDAR
