BEGIN:VCALENDAR
VERSION:2.0
PRODID:-//ChamberMaster//Event Calendar 2.0//EN
METHOD:PUBLISH
X-PUBLISHED-TTL:P3D
REFRESH-INTERVAL:P3D
CALSCALE:GREGORIAN
BEGIN:VEVENT
DTSTART:20210720T213000Z
DTEND:20210720T230000Z
X-MICROSOFT-CDO-ALLDAYEVENT:FALSE
SUMMARY:LoudounYP Networking Mixer @ Clydes Willow Creek Farm
DESCRIPTION:Join us for a casual evening where you will meet new people\, enjoy drinks and appetizers\, and make lasting connections. Grab a friend and come on out with a stack of business cards to Clyde's!\n\n\n\n**You will be asked to fill out a self-assessment form before attending the event -- Tickets are non-refundable*
X-ALT-DESC;FMTTYPE=text/html:<br />\n<br />\nJoin us for a casual evening where you will meet new people\, enjoy drinks and appetizers\, and make lasting connections. Grab a friend and come on out with a stack of business cards to Clyde&#39\;s!<br />\n<br />\n<em>**You will be asked to fill out a self-assessment form before attending the event&nbsp\;-- Tickets are non-refundable*</em><br />\n&nbsp\;
LOCATION:Clydes Willow Creek Farm 42920 Broadlands Boulevard Broadlands
UID:e.1206.13076
SEQUENCE:3
DTSTAMP:20260423T194424Z
URL:https://dev.loudounchamber.org/events/details/loudounyp-networking-mixer-clydes-willow-creek-farm-13076
END:VEVENT

END:VCALENDAR
