BEGIN:VCALENDAR
VERSION:2.0
PRODID:-//ChamberMaster//Event Calendar 2.0//EN
METHOD:PUBLISH
X-PUBLISHED-TTL:P3D
REFRESH-INTERVAL:P3D
CALSCALE:GREGORIAN
BEGIN:VEVENT
DTSTART:20260527T190000Z
DTEND:20260527T220000Z
X-MICROSOFT-CDO-ALLDAYEVENT:FALSE
SUMMARY:Loudoun Nonprofit & Business Forum: Aligning Solutions for Community Challenges
DESCRIPTION:Loudoun Nonprofit & Business Forum: \n\nAligning Solutions for Community Challenges\n\n\nJoin the Loudoun Chamber's third annual Nonprofit & Business Forum for a deeper look at how partnerships across sectors are shaping solutions to some of the most pressing challenges facing our community.\n\n\n\n \n\n\n\n\nThe program will open with a keynote address from Loudoun Board of Supervisors Chair Phyllis Randall\, a longtime advocate for Loudoun's nonprofit community. Chair Randall will share insights on the County's evolving role in supporting nonprofit organizations and strengthening cross-sector partnerships.\n\n\n\n \n\n\n\nThe event will continue with two dynamic panel discussions exploring the interconnected challenges of food access\, housing\, and workforce development and how these issues affect not only those directly served\, but the broader Loudoun community.\n\n\n\n \n\n\n\nOur first panel\, featuring leaders from organizations on the front lines of this work\, will examine how these challenges intersect\, what trends are emerging\, and what solutions are gaining traction locally.\n\n\n\nModerated by Val Walters\, Executive Director of the Ryan Bartel Foundation and Chair of the Chamber's Nonprofit Initiative\, the discussion will feature panelists:\n\n\n\n\n	Carol Smith\, Crossroad Jobs\n\n\n\n\n\n	Jennifer Montgomery\, Loudoun Hunger Relief\n\n\n\n\n\n	Joe Meyers\, Shelter House\, Inc.\n\n\n\n\n \n\n\n\nThe second panel will shift the conversation toward the role of cross-sector collaboration\, highlighting innovative approaches to drive impact and how organizations can work together more effectively to drive meaningful impact. Moderated by Susannah Lee\, CEO of Tree of Life Ministries and Vice Chair of the Chamber's Nonprofit Initiative\, this panel will feature:\n\n\n\n\n	Dave McComber\, QTS Data Centers\n\n\n\n\n\n	Nicole Morris\, Women Giving Back\n\n\n\n\n\n	Nicole Acosta\, Community Foundation for Loudoun and Northern Fauquier Counties\n\n\n\n\n \n\n\n\nThe program will conclude with a networking reception celebrating the vital work of Loudoun's nonprofit community and the partnerships that help our region thrive.
X-ALT-DESC;FMTTYPE=text/html:<h3 style="text-align: center\;"><!--StartFragment--><!--StartFragment--><strong><span data-olk-copy-source="MessageBody" style="color: black\;">Loudoun Nonprofit &amp\; Business Forum:&nbsp\;<br />\nAligning Solutions for Community Challenges</span></strong><!--EndFragment--></h3>\n\n<div style="border: 0px\; font-variant-numeric: inherit\; font-variant-east-asian: inherit\; font-variant-alternates: inherit\; font-variant-position: inherit\; font-variant-emoji: inherit\; font-stretch: inherit\; font-size: 15px\; line-height: inherit\; font-family: &quot\;Segoe UI&quot\;\, &quot\;Segoe UI Web (West European)&quot\;\, -apple-system\, BlinkMacSystemFont\, Roboto\, &quot\;Helvetica Neue&quot\;\, sans-serif\; font-optical-sizing: inherit\; font-size-adjust: inherit\; font-kerning: inherit\; font-feature-settings: inherit\; font-variation-settings: inherit\; font-language-override: inherit\; margin: 0px\; padding: 0px\; vertical-align: baseline\; color: rgb(36\, 36\, 36)\;">\n<p class="x_MsoNormal" style="margin: 0in\; font-size: 12pt\; font-family: Aptos\, sans-serif\;"><span data-olk-copy-source="MessageBody" style="border: 0px\; font: inherit\; margin: 0px\; padding: 0px\; vertical-align: baseline\; color: black !important\;">Join the Loudoun Chamber&rsquo\;s third annual Nonprofit &amp\; Business Forum for a deeper look at how partnerships across sectors are shaping solutions to some of the most pressing challenges facing our community.</span></p>\n</div>\n\n<div style="border: 0px\; font-variant-numeric: inherit\; font-variant-east-asian: inherit\; font-variant-alternates: inherit\; font-variant-position: inherit\; font-variant-emoji: inherit\; font-stretch: inherit\; font-size: 15px\; line-height: inherit\; font-family: &quot\;Segoe UI&quot\;\, &quot\;Segoe UI Web (West European)&quot\;\, -apple-system\, BlinkMacSystemFont\, Roboto\, &quot\;Helvetica Neue&quot\;\, sans-serif\; font-optical-sizing: inherit\; font-size-adjust: inherit\; font-kerning: inherit\; font-feature-settings: inherit\; font-variation-settings: inherit\; font-language-override: inherit\; margin: 0px\; padding: 0px\; vertical-align: baseline\; color: rgb(36\, 36\, 36)\;">\n<p class="x_MsoNormal" style="margin: 0in\; font-size: 12pt\; font-family: Aptos\, sans-serif\;"><span style="border: 0px\; font: inherit\; margin: 0px\; padding: 0px\; vertical-align: baseline\; color: black !important\;">&nbsp\;</span></p>\n</div>\n\n<div id="x_Signature" style="border: 0px\; font-variant-numeric: inherit\; font-variant-east-asian: inherit\; font-variant-alternates: inherit\; font-variant-position: inherit\; font-variant-emoji: inherit\; font-stretch: inherit\; font-size: 15px\; line-height: inherit\; font-family: &quot\;Segoe UI&quot\;\, &quot\;Segoe UI Web (West European)&quot\;\, -apple-system\, BlinkMacSystemFont\, Roboto\, &quot\;Helvetica Neue&quot\;\, sans-serif\; font-optical-sizing: inherit\; font-size-adjust: inherit\; font-kerning: inherit\; font-feature-settings: inherit\; font-variation-settings: inherit\; font-language-override: inherit\; margin: 0px\; padding: 0px\; vertical-align: baseline\; color: rgb(36\, 36\, 36)\;">\n<div style="border: 0px\; font: inherit\; margin: 0px\; padding: 0px\; vertical-align: baseline\; color: inherit\;">\n<p class="x_MsoNormal" style="margin: 0in\; font-size: 12pt\; font-family: Aptos\, sans-serif\;"><span style="border: 0px\; font: inherit\; margin: 0px\; padding: 0px\; vertical-align: baseline\; color: black !important\;">The program will open with a keynote address from Loudoun Board of Supervisors Chair&nbsp\;Phyllis Randall\, a longtime advocate for Loudoun&rsquo\;s nonprofit community. Chair Randall will share insights on the County&rsquo\;s evolving role in supporting nonprofit organizations and strengthening cross-sector partnerships.</span></p>\n</div>\n\n<div style="border: 0px\; font: inherit\; margin: 0px\; padding: 0px\; vertical-align: baseline\; color: inherit\;">\n<p class="x_MsoNormal" style="margin: 0in\; font-size: 12pt\; font-family: Aptos\, sans-serif\;"><span style="border: 0px\; font: inherit\; margin: 0px\; padding: 0px\; vertical-align: baseline\; color: black !important\;">&nbsp\;</span></p>\n</div>\n\n<div style="border: 0px\; font: inherit\; margin: 0px\; padding: 0px\; vertical-align: baseline\; color: inherit\;">\n<p class="x_MsoNormal" style="margin: 0in\; font-size: 12pt\; font-family: Aptos\, sans-serif\;"><span style="border: 0px\; font: inherit\; margin: 0px\; padding: 0px\; vertical-align: baseline\; color: black !important\;">The event will continue with two dynamic panel discussions exploring the interconnected challenges of food access\, housing\, and workforce development and how&nbsp\;these issues affect not only those directly served\, but the broader Loudoun community.</span></p>\n</div>\n\n<div style="border: 0px\; font: inherit\; margin: 0px\; padding: 0px\; vertical-align: baseline\; color: inherit\;">\n<p class="x_MsoNormal" style="margin: 0in\; font-size: 12pt\; font-family: Aptos\, sans-serif\;"><span style="border: 0px\; font: inherit\; margin: 0px\; padding: 0px\; vertical-align: baseline\; color: black !important\;">&nbsp\;</span></p>\n</div>\n\n<div style="border: 0px\; font: inherit\; margin: 0px\; padding: 0px\; vertical-align: baseline\; color: inherit\;">\n<p class="x_MsoNormal" style="margin: 0in\; font-size: 12pt\; font-family: Aptos\, sans-serif\;"><span style="border: 0px\; font: inherit\; margin: 0px\; padding: 0px\; vertical-align: baseline\; color: black !important\;">Our first panel\, featuring leaders from organizations on the front lines of this work\, will examine how these challenges intersect\, what trends are emerging\, and what solutions are gaining traction locally.</span></p>\n</div>\n\n<div style="border: 0px\; font: inherit\; margin: 0px\; padding: 0px\; vertical-align: baseline\; color: inherit\;">\n<p class="x_MsoNormal" style="margin: 0in\; font-size: 12pt\; font-family: Aptos\, sans-serif\;"><span style="border: 0px\; font: inherit\; margin: 0px\; padding: 0px\; vertical-align: baseline\; color: black !important\;">Moderated by Val Walters\, Executive Director of the Ryan Bartel Foundation and Chair of the Chamber&#39\;s Nonprofit Initiative\, the discussion will feature panelists:</span></p>\n</div>\n\n<div style="border: 0px\; font: inherit\; margin: 0px\; padding: 0px\; vertical-align: baseline\; color: inherit\;">\n<ul style="margin-bottom: 0in\; margin-top: 0in\;" type="disc">\n	<li class="x_MsoNormal" style="margin: 0in\; font-size: 12pt\; font-family: Aptos\, sans-serif\; color: black !important\;">Carol Smith\, Crossroad Jobs</li>\n</ul>\n</div>\n\n<div style="border: 0px\; font: inherit\; margin: 0px\; padding: 0px\; vertical-align: baseline\; color: inherit\;">\n<ul style="margin-bottom: 0in\; margin-top: 0in\;" type="disc">\n	<li class="x_MsoNormal" style="margin: 0in\; font-size: 12pt\; font-family: Aptos\, sans-serif\; color: black !important\;">Jennifer Montgomery\, Loudoun Hunger Relief</li>\n</ul>\n</div>\n\n<div style="border: 0px\; font: inherit\; margin: 0px\; padding: 0px\; vertical-align: baseline\; color: inherit\;">\n<ul style="margin-bottom: 0in\; margin-top: 0in\;" type="disc">\n	<li class="x_MsoNormal" style="margin: 0in\; font-size: 12pt\; font-family: Aptos\, sans-serif\; color: black !important\;">Joe Meyers\, Shelter House\, Inc.</li>\n</ul>\n</div>\n\n<div style="border: 0px\; font: inherit\; margin: 0px\; padding: 0px\; vertical-align: baseline\; color: inherit\;">\n<p class="x_MsoNormal" style="margin: 0in\; font-size: 12pt\; font-family: Aptos\, sans-serif\;"><span style="border: 0px\; font: inherit\; margin: 0px\; padding: 0px\; vertical-align: baseline\; color: black !important\;">&nbsp\;</span></p>\n</div>\n\n<div style="border: 0px\; font: inherit\; margin: 0px\; padding: 0px\; vertical-align: baseline\; color: inherit\;">\n<p class="x_MsoNormal" style="margin: 0in\; font-size: 12pt\; font-family: Aptos\, sans-serif\;"><span style="border: 0px\; font: inherit\; margin: 0px\; padding: 0px\; vertical-align: baseline\; color: black !important\;">The second panel will shift the conversation toward the role of cross-sector collaboration\, highlighting innovative approaches to drive impact and how organizations can work together more effectively to drive meaningful impact. Moderated by Susannah Lee\, CEO of Tree of Life Ministries and Vice Chair of the Chamber&#39\;s Nonprofit Initiative\, this panel will feature:</span></p>\n</div>\n\n<div style="border: 0px\; font: inherit\; margin: 0px\; padding: 0px\; vertical-align: baseline\; color: inherit\;">\n<ul style="margin-bottom: 0in\; margin-top: 0in\;" type="disc">\n	<li class="x_MsoNormal" style="margin: 0in\; font-size: 12pt\; font-family: Aptos\, sans-serif\; color: black !important\;">Dave McComber\, QTS Data Centers</li>\n</ul>\n</div>\n\n<div style="border: 0px\; font: inherit\; margin: 0px\; padding: 0px\; vertical-align: baseline\; color: inherit\;">\n<ul style="margin-bottom: 0in\; margin-top: 0in\;" type="disc">\n	<li class="x_MsoNormal" style="margin: 0in\; font-size: 12pt\; font-family: Aptos\, sans-serif\; color: black !important\;">Nicole Morris\, Women Giving Back</li>\n</ul>\n</div>\n\n<div style="border: 0px\; font: inherit\; margin: 0px\; padding: 0px\; vertical-align: baseline\; color: inherit\;">\n<ul style="margin-bottom: 0in\; margin-top: 0in\;" type="disc">\n	<li class="x_MsoNormal" style="margin: 0in\; font-size: 12pt\; font-family: Aptos\, sans-serif\; color: black !important\;">Nicole Acosta\, Community Foundation for Loudoun and Northern Fauquier Counties</li>\n</ul>\n</div>\n\n<div style="border: 0px\; font: inherit\; margin: 0px\; padding: 0px\; vertical-align: baseline\; color: inherit\;">\n<p class="x_MsoNormal" style="margin: 0in 0in 0in 0.5in\; font-size: 12pt\; font-family: Aptos\, sans-serif\;"><span style="border: 0px\; font: inherit\; margin: 0px\; padding: 0px\; vertical-align: baseline\; color: black !important\;">&nbsp\;</span></p>\n</div>\n\n<div style="border: 0px\; font: inherit\; margin: 0px\; padding: 0px\; vertical-align: baseline\; color: inherit\;">\n<p class="x_MsoNormal" style="margin: 0in\; font-size: 12pt\; font-family: Aptos\, sans-serif\;"><span style="border: 0px\; font: inherit\; margin: 0px\; padding: 0px\; vertical-align: baseline\; color: black !important\;">The program will conclude with a networking reception celebrating the vital work of Loudoun&rsquo\;s nonprofit community and the partnerships that help our region thrive.</span></p>\n</div>\n</div>\n
LOCATION:1757 Golf Club 45120 Waxpool Road Dulles\, VA 20166
UID:e.1206.13561
SEQUENCE:3
DTSTAMP:20260424T202849Z
URL:https://dev.loudounchamber.org/events/details/loudoun-nonprofit-business-forum-aligning-solutions-for-community-challenges-13561
END:VEVENT

END:VCALENDAR
