BEGIN:VCALENDAR
VERSION:2.0
PRODID:-//ChamberMaster//Event Calendar 2.0//EN
METHOD:PUBLISH
X-PUBLISHED-TTL:P3D
REFRESH-INTERVAL:P3D
CALSCALE:GREGORIAN
BEGIN:VEVENT
DTSTART:20260604T134500Z
DTEND:20260604T154500Z
X-MICROSOFT-CDO-ALLDAYEVENT:FALSE
SUMMARY:Loudoun Nonprofit Academy Workshop: A Good Plan for Your Annual Report
DESCRIPTION:Done well\, an annual report can be a tool that strengthens donor relationships\, reinforces trust\, and clearly communicates your impact in ways your donors actually want to receive it.  \n\nIn this practical\, step-by-step workshop\, we'll focus on creating a strategic\, donor-centered report that supports your fundraising and communication goals.  \n\nWe will walk through the full process of preparing\, creating\, and sharing an annual report that is both strategic and realistic to execute. \n\nParticipants will leave with a plan for:  \n\n\n	\n	Getting Started: A planning framework to determine the best size and scope for your annual report  \n	\n	\n	Creating the Report: Defined next steps to move from draft to distribution  \n	\n	\n	Sharing your Impact: A strategy to use the annual report as an active fundraising tool \n	\n\n\n \n\nYour annual report should do far more than summarize the past 12 months. We hope you will join us to turn your annual report into a powerful communication and fundraising tool. \n\n \n\nIntended Audience: Development and Communication staff. As well as anyone else involved in creating and sharing your annual report such as Nonprofit Executive Directors / CEOs\, board members and volunteers.
X-ALT-DESC;FMTTYPE=text/html:<div class="x_x_elementToProof" data-olk-copy-source="MessageBody" style="border: 0px\; font-variant-numeric: inherit\; font-variant-east-asian: inherit\; font-variant-alternates: inherit\; font-variant-position: inherit\; font-variant-emoji: inherit\; font-stretch: inherit\; font-size: 12pt\; line-height: inherit\; font-family: Aptos\, Aptos_EmbeddedFont\, Aptos_MSFontService\, Calibri\, Helvetica\, sans-serif\; font-optical-sizing: inherit\; font-size-adjust: inherit\; font-kerning: inherit\; font-feature-settings: inherit\; font-variation-settings: inherit\; font-language-override: inherit\; margin: 16px 0px\; padding: 0px\; vertical-align: baseline\; color: rgb(36\, 36\, 36)\; direction: ltr\;"><span style="font-size:14px\;"><span style="font-family:arial\;">Done&nbsp\;well\,&nbsp\;an annual report can be a tool that strengthens donor relationships\, reinforces trust\, and clearly communicates your impact in ways your donors&nbsp\;actually want&nbsp\;to receive it. &nbsp\;</span></span></div>\n\n<div class="x_x_elementToProof" style="border: 0px\; font-variant-numeric: inherit\; font-variant-east-asian: inherit\; font-variant-alternates: inherit\; font-variant-position: inherit\; font-variant-emoji: inherit\; font-stretch: inherit\; font-size: 12pt\; line-height: inherit\; font-family: Aptos\, Aptos_EmbeddedFont\, Aptos_MSFontService\, Calibri\, Helvetica\, sans-serif\; font-optical-sizing: inherit\; font-size-adjust: inherit\; font-kerning: inherit\; font-feature-settings: inherit\; font-variation-settings: inherit\; font-language-override: inherit\; margin: 16px 0px\; padding: 0px\; vertical-align: baseline\; color: rgb(36\, 36\, 36)\; direction: ltr\;"><span style="font-size:14px\;"><span style="font-family:arial\;">In this practical\, step-by-step workshop\,&nbsp\;we&rsquo\;ll&nbsp\;focus on creating a strategic\, donor-centered report that supports your fundraising and communication goals. &nbsp\;</span></span></div>\n\n<div class="x_x_elementToProof" style="border: 0px\; font-variant-numeric: inherit\; font-variant-east-asian: inherit\; font-variant-alternates: inherit\; font-variant-position: inherit\; font-variant-emoji: inherit\; font-stretch: inherit\; font-size: 12pt\; line-height: inherit\; font-family: Aptos\, Aptos_EmbeddedFont\, Aptos_MSFontService\, Calibri\, Helvetica\, sans-serif\; font-optical-sizing: inherit\; font-size-adjust: inherit\; font-kerning: inherit\; font-feature-settings: inherit\; font-variation-settings: inherit\; font-language-override: inherit\; margin: 16px 0px\; padding: 0px\; vertical-align: baseline\; color: rgb(36\, 36\, 36)\; direction: ltr\;"><span style="font-size:14px\;"><span style="font-family:arial\;">We&nbsp\;will walk through the full process of preparing\, creating\, and sharing an annual report that is both&nbsp\;strategic and realistic to execute.&nbsp\;</span></span></div>\n\n<div class="x_x_elementToProof" style="border: 0px\; font-variant-numeric: inherit\; font-variant-east-asian: inherit\; font-variant-alternates: inherit\; font-variant-position: inherit\; font-variant-emoji: inherit\; font-stretch: inherit\; font-size: 12pt\; line-height: inherit\; font-family: Aptos\, Aptos_EmbeddedFont\, Aptos_MSFontService\, Calibri\, Helvetica\, sans-serif\; font-optical-sizing: inherit\; font-size-adjust: inherit\; font-kerning: inherit\; font-feature-settings: inherit\; font-variation-settings: inherit\; font-language-override: inherit\; margin: 0px\; padding: 0px\; vertical-align: baseline\; color: rgb(36\, 36\, 36)\; direction: ltr\;"><span style="font-size:14px\;"><span style="font-family:arial\;">Participants&nbsp\;will&nbsp\;leave with&nbsp\;a plan for: &nbsp\;</span></span></div>\n\n<ul style="color: rgb(36\, 36\, 36)\; font-family: &quot\;Segoe UI&quot\;\, &quot\;Segoe UI Web (West European)&quot\;\, -apple-system\, BlinkMacSystemFont\, Roboto\, &quot\;Helvetica Neue&quot\;\, sans-serif\; font-size: 15px\; direction: ltr\; margin-top: 0px\; margin-right: 0px\; margin-bottom: 0px\; padding-left: 1em\;">\n	<li style="font-family: Aptos\, Aptos_EmbeddedFont\, Aptos_MSFontService\, Calibri\, Helvetica\, sans-serif\; font-size: 12pt\; direction: ltr\; margin: 0px 0px 0px 24px\;">\n	<div class="x_x_elementToProof" role="presentation" style="border: 0px\; font: inherit\; margin: 0px\; padding: 0px\; vertical-align: baseline\; color: inherit\;"><span style="font-size:14px\;"><span style="font-family:arial\;"><b>Getting Started</b>:&nbsp\;A planning framework&nbsp\;to&nbsp\;determine&nbsp\;the&nbsp\;best&nbsp\;size and scope for your&nbsp\;annual report &nbsp\;</span></span></div>\n	</li>\n	<li style="font-family: Aptos\, Aptos_EmbeddedFont\, Aptos_MSFontService\, Calibri\, Helvetica\, sans-serif\; font-size: 12pt\; direction: ltr\; margin: 0px 0px 0px 24px\;">\n	<div class="x_x_elementToProof" role="presentation" style="border: 0px\; font: inherit\; margin: 0px\; padding: 0px\; vertical-align: baseline\; color: inherit\;"><span style="font-size:14px\;"><span style="font-family:arial\;"><b>Creating the Report</b>:&nbsp\;Defined next steps to move from draft to distribution&nbsp\;&nbsp\;</span></span></div>\n	</li>\n	<li style="font-family: Aptos\, Aptos_EmbeddedFont\, Aptos_MSFontService\, Calibri\, Helvetica\, sans-serif\; font-size: 12pt\; direction: ltr\; margin: 0px 0px 0px 24px\;">\n	<div class="x_x_elementToProof" role="presentation" style="border: 0px\; font: inherit\; margin: 0px\; padding: 0px\; vertical-align: baseline\; color: inherit\;"><span style="font-size:14px\;"><span style="font-family:arial\;"><b>Sharing your Impact</b>:&nbsp\;A strategy to use the annual report as an active fundraising tool&nbsp\;</span></span></div>\n	</li>\n</ul>\n\n<div aria-hidden="true" class="x_x_elementToProof" style="border: 0px\; font-variant-numeric: inherit\; font-variant-east-asian: inherit\; font-variant-alternates: inherit\; font-variant-position: inherit\; font-variant-emoji: inherit\; font-stretch: inherit\; font-size: 12pt\; line-height: inherit\; font-family: Aptos\, Aptos_EmbeddedFont\, Aptos_MSFontService\, Calibri\, Helvetica\, sans-serif\; font-optical-sizing: inherit\; font-size-adjust: inherit\; font-kerning: inherit\; font-feature-settings: inherit\; font-variation-settings: inherit\; font-language-override: inherit\; margin: 0px\; padding: 0px\; vertical-align: baseline\; color: rgb(36\, 36\, 36)\; direction: ltr\;">&nbsp\;</div>\n\n<div class="x_x_elementToProof" style="border: 0px\; font-variant-numeric: inherit\; font-variant-east-asian: inherit\; font-variant-alternates: inherit\; font-variant-position: inherit\; font-variant-emoji: inherit\; font-stretch: inherit\; font-size: 12pt\; line-height: inherit\; font-family: Aptos\, Aptos_EmbeddedFont\, Aptos_MSFontService\, Calibri\, Helvetica\, sans-serif\; font-optical-sizing: inherit\; font-size-adjust: inherit\; font-kerning: inherit\; font-feature-settings: inherit\; font-variation-settings: inherit\; font-language-override: inherit\; margin: 0px\; padding: 0px\; vertical-align: baseline\; color: rgb(36\, 36\, 36)\; direction: ltr\;"><span style="font-size:14px\;"><span style="font-family:arial\;">Your annual report should do far more than summarize the past 12 months. We hope you will join us&nbsp\;to turn your annual report into a powerful communication and fundraising tool.&nbsp\;</span></span></div>\n\n<div aria-hidden="true" class="x_x_elementToProof" style="border: 0px\; font-variant-numeric: inherit\; font-variant-east-asian: inherit\; font-variant-alternates: inherit\; font-variant-position: inherit\; font-variant-emoji: inherit\; font-stretch: inherit\; font-size: 12pt\; line-height: inherit\; font-family: Aptos\, Aptos_EmbeddedFont\, Aptos_MSFontService\, Calibri\, Helvetica\, sans-serif\; font-optical-sizing: inherit\; font-size-adjust: inherit\; font-kerning: inherit\; font-feature-settings: inherit\; font-variation-settings: inherit\; font-language-override: inherit\; margin: 0px\; padding: 0px\; vertical-align: baseline\; color: rgb(36\, 36\, 36)\; direction: ltr\;">&nbsp\;</div>\n\n<div class="x_x_elementToProof" style="border: 0px\; font-variant-numeric: inherit\; font-variant-east-asian: inherit\; font-variant-alternates: inherit\; font-variant-position: inherit\; font-variant-emoji: inherit\; font-stretch: inherit\; font-size: 12pt\; line-height: inherit\; font-family: Aptos\, Aptos_EmbeddedFont\, Aptos_MSFontService\, Calibri\, Helvetica\, sans-serif\; font-optical-sizing: inherit\; font-size-adjust: inherit\; font-kerning: inherit\; font-feature-settings: inherit\; font-variation-settings: inherit\; font-language-override: inherit\; margin: 0px\; padding: 0px\; vertical-align: baseline\; color: rgb(36\, 36\, 36)\; direction: ltr\;"><span style="font-size:14px\;"><span style="font-family:arial\;"><b>Intended Audience:&nbsp\;</b>Development and Communication staff. As well as anyone else&nbsp\;involved in creating and sharing your annual report&nbsp\;such as&nbsp\;Nonprofit Executive Directors / CEOs\,&nbsp\;board&nbsp\;members&nbsp\;and volunteers.&nbsp\;</span></span></div>\n
LOCATION:The Claude Moore Nonprofit Training Center at the Community Foundation for Loudoun and Northern Fauquier Counties 714 E Market St\, Leesburg\, VA 20176
UID:e.1206.13557
SEQUENCE:3
DTSTAMP:20260422T082449Z
URL:https://dev.loudounchamber.org/events/details/loudoun-nonprofit-academy-workshop-a-good-plan-for-your-annual-report-13557
END:VEVENT

END:VCALENDAR
