BEGIN:VCALENDAR
VERSION:2.0
PRODID:-//ChamberMaster//Event Calendar 2.0//EN
METHOD:PUBLISH
X-PUBLISHED-TTL:P3D
REFRESH-INTERVAL:P3D
CALSCALE:GREGORIAN
BEGIN:VEVENT
DTSTART:20220425T153000Z
DTEND:20220425T180000Z
X-MICROSOFT-CDO-ALLDAYEVENT:FALSE
SUMMARY:37th Annual Loudoun County Valor Awards
DESCRIPTION:The Loudoun Chamber will honor our community's real life heroes\, including several truly heroic citizens\, for their courageous\, often lifesaving actions\, at the 37th Annual Loudoun County Valor Awards.  Loudoun's top business and community leaders will join us for this proud Chamber tradition\, and demonstrate their respect and appreciation for these dedicated public servants and their selfless acts of heroism and service.
X-ALT-DESC;FMTTYPE=text/html:<p>The Loudoun Chamber will honor our community&rsquo\;s real life heroes\, including several truly heroic citizens\, for their courageous\, often lifesaving actions\, at the 37th Annual Loudoun County Valor Awards.&nbsp\; Loudoun&rsquo\;s top business and community leaders will join us for this proud Chamber tradition\, and demonstrate their respect and appreciation for these dedicated public servants and their selfless acts of heroism and service.&nbsp\;&nbsp\;</p>\n
LOCATION:Lansdowne Resort 44050 Woodridge Parkway Leesburg\, Virginia 20176
UID:e.1206.13115
SEQUENCE:3
DTSTAMP:20260421T085119Z
URL:https://dev.loudounchamber.org/events/details/37th-annual-loudoun-county-valor-awards-13115
END:VEVENT

END:VCALENDAR
